file format : IDRISI Raster A.1
file title  :
data type   : byte
file type   : binary
columns     : 8541
rows        : 7281
ref. system : utm-34n
ref. units  : m
unit dist.  : 1.0000000
min. X      : 646185.0000000
max. X      : 902415.0000000
min. Y      : -3624615.0000000
max. Y      : -3406185.0000000
pos'n error : unknown
resolution  : unknown
min. value  : 0
max. value  : 1
display min : 0
display max : 1
value units : unspecified
value error : unknown
flag value  : none
flag def'n  : none
legend cats : 0
lineage     : This file was created by the RECLASS module with the command line:
lineage     : I*H:\orange_river\2009\p172-r82\20100401\clusterfine.rst*H:\orange_river\2009\p172-r82\20100401\class4.rst*3*H:\orange_river\2009\p172-r82\20100401\idrtemp.rcl*1
lineage     : File H:\orange_river\2009\p172-r82\20100401\idrtemp.rcl contains the following:
lineage     : 0 0 4
lineage     : 1 4 5
lineage     : 0 5 99
lineage     : -9999
