file format : IDRISI Raster A.1
file title  :
data type   : byte
file type   : binary
columns     : 8541
rows        : 7281
ref. system : utm-34n
ref. units  : m
unit dist.  : 1.0000000
min. X      : 649785.0000000
max. X      : 906015.0000000
min. Y      : -3624615.0000000
max. Y      : -3406185.0000000
pos'n error : unknown
resolution  : unknown
min. value  : 0
max. value  : 78
display min : 0
display max : 78
value units : unspecified
value error : unknown
flag value  : none
flag def'n  : none
legend cats : 0
lineage     : This file was created by the OVERLAY module with the command line:
lineage     : 1*H:\orange_river\2009\p172-r82\20091108\class36.rst*H:\orange_river\2009\p172-r82\20091108\class78.rst*H:\orange_river\2009\p172-r82\20091108\class36_78.rst
