file format : IDRISI Raster A.1
file title  :
data type   : byte
file type   : binary
columns     : 8561
rows        : 7301
ref. system : utm-34n
ref. units  : m
unit dist.  : 1.0000000
min. X      : 649185.0000000
max. X      : 906015.0000000
min. Y      : -3625215.0000000
max. Y      : -3406185.0000000
pos'n error : unknown
resolution  : unknown
min. value  : 0
max. value  : 62
display min : 0
display max : 62
value units : unspecified
value error : unknown
flag value  : none
flag def'n  : none
legend cats : 0
lineage     : This file was created by the RECLASS module with the command line:
lineage     : I*H:\orange_river\2009\p172-r82\20091023\123457clusterfine.rst*H:\orange_river\2009\p172-r82\20091023\class62.rst*3*H:\orange_river\2009\p172-r82\20091023\idrtemp.rcl*1
lineage     : File H:\orange_river\2009\p172-r82\20091023\idrtemp.rcl contains the following:
lineage     : 0 0 62
lineage     : 0 63 99
lineage     : -9999
