file format : IDRISI Raster A.1
file title  :
data type   : byte
file type   : binary
columns     : 8281
rows        : 6971
ref. system : utm-35n
ref. units  : m
unit dist.  : 1.0000000
min. X      : 113085.0000000
max. X      : 361515.0000000
min. Y      : -3460515.0000000
max. Y      : -3251385.0000000
pos'n error : unknown
resolution  : unknown
min. value  : 0
max. value  : 44
display min : 0
display max : 44
value units : unspecified
value error : unknown
flag value  : none
flag def'n  : none
legend cats : 0
lineage     : This file was created by the RECLASS module with the command line:
lineage     : I*H:\orange_river\2009\p172-r81\20100316\123457_cluster.rst*H:\orange_river\2009\p172-r81\20100316\cluster_class44.rst*3*H:\orange_river\2009\p172-r81\20100316\idrtemp.rcl*1
lineage     : File H:\orange_river\2009\p172-r81\20100316\idrtemp.rcl contains the following:
lineage     : 0 0 44
lineage     : 0 45 99
lineage     : -9999
