file format : IDRISI Raster A.1
file title  :
data type   : byte
file type   : binary
columns     : 8301
rows        : 7001
ref. system : utm-35n
ref. units  : m
unit dist.  : 1.0000000
min. X      : 118185.0000000
max. X      : 367215.0000000
min. Y      : -3460815.0000000
max. Y      : -3250785.0000000
pos'n error : unknown
resolution  : unknown
min. value  : 0
max. value  : 1
display min : 0
display max : 1
value units : unspecified
value error : unknown
flag value  : none
flag def'n  : none
legend cats : 0
lineage     : This file was created by the RECLASS module with the command line:
lineage     : I*H:\orange_river\2009\p172-r81\20091108\123457_kmeans_f.rst*H:\orange_river\2009\p172-r81\20091108\clusf_class38-49-72-80.rst*3*H:\orange_river\2009\p172-r81\20091108\idrtemp.rcl*1
lineage     : File H:\orange_river\2009\p172-r81\20091108\idrtemp.rcl contains the following:
lineage     : 0 0 38
lineage     : 1 38 39
lineage     : 0 39 49
lineage     : 1 49 50
lineage     : 0 50 72
lineage     : 1 72 73
lineage     : 0 73 80
lineage     : 1 80 81
lineage     : 0 81 99
lineage     : -9999
