file format : IDRISI Raster A.1
file title  :
data type   : byte
file type   : binary
columns     : 8301
rows        : 6981
ref. system : utm-35n
ref. units  : m
unit dist.  : 1.0000000
min. X      : 116985.0000000
max. X      : 366015.0000000
min. Y      : -3460215.0000000
max. Y      : -3250785.0000000
pos'n error : unknown
resolution  : unknown
min. value  : 0
max. value  : 9
display min : 0
display max : 9
value units : unspecified
value error : unknown
flag value  : none
flag def'n  : none
legend cats : 0
lineage     : This file was created by the RECLASS module with the command line:
lineage     : I*H:\orange_river\2009\p172-r81\20091023\123457kmeans16.rst*H:\orange_river\2009\p172-r81\20091023\class9.rst*3*H:\orange_river\2009\p172-r81\20091023\idrtemp.rcl*1
lineage     : File H:\orange_river\2009\p172-r81\20091023\idrtemp.rcl contains the following:
lineage     : 0 0 9
lineage     : 0 10 99
lineage     : -9999
