file format : IDRISI Raster A.1
file title  :
data type   : byte
file type   : binary
columns     : 8301
rows        : 6981
ref. system : utm-35n
ref. units  : m
unit dist.  : 1.0000000
min. X      : 145485.0000000
max. X      : 394515.0000000
min. Y      : -3300315.0000000
max. Y      : -3090885.0000000
pos'n error : unknown
resolution  : unknown
min. value  : 0
max. value  : 7
display min : 0
display max : 7
value units : unspecified
value error : unknown
flag value  : none
flag def'n  : none
legend cats : 0
lineage     : This file was created by the RECLASS module with the command line:
lineage     : I*H:\orange_river\2009\p172-r80\20100316\123457_kmeans16.rst*H:\orange_river\2009\p172-r80\20100316\class7.rst*3*H:\orange_river\2009\p172-r80\20100316\idrtemp.rcl*1
lineage     : File H:\orange_river\2009\p172-r80\20100316\idrtemp.rcl contains the following:
lineage     : 0 0 7
lineage     : 0 8 99
lineage     : -9999
