file format : IDRISI Raster A.1
file title  :
data type   : byte
file type   : binary
columns     : 8301
rows        : 7001
ref. system : utm-35n
ref. units  : m
unit dist.  : 1.0000000
min. X      : 151785.0000000
max. X      : 400815.0000000
min. Y      : -3300615.0000000
max. Y      : -3090585.0000000
pos'n error : unknown
resolution  : unknown
min. value  : 0
max. value  : 1
display min : 0
display max : 1
value units : unspecified
value error : unknown
flag value  : none
flag def'n  : none
legend cats : 0
lineage     : This file was created by the RECLASS module with the command line:
lineage     : I*H:\orange_river\2009\p172-r80\20091210\123457_cluster_f.rst*H:\orange_river\2009\p172-r80\20091210\clusf_class17-40-47-58-67-69.rst*3*H:\orange_river\2009\p172-r80\20091210\idrtemp.rcl*1
lineage     : File H:\orange_river\2009\p172-r80\20091210\idrtemp.rcl contains the following:
lineage     : 0 0 17
lineage     : 1 17 18
lineage     : 0 18 40
lineage     : 1 40 41
lineage     : 0 41 47
lineage     : 1 47 48
lineage     : 0 48 67
lineage     : 1 67 68
lineage     : 0 68 69
lineage     : 1 69 70
lineage     : 0 70 99
lineage     : -9999
