file format : IDRISI Raster A.1
file title  :
data type   : byte
file type   : binary
columns     : 8301
rows        : 7001
ref. system : utm-35n
ref. units  : m
unit dist.  : 1.0000000
min. X      : 151785.0000000
max. X      : 400815.0000000
min. Y      : -3300615.0000000
max. Y      : -3090585.0000000
pos'n error : unknown
resolution  : unknown
min. value  : 0
max. value  : 11
display min : 0
display max : 11
value units : unspecified
value error : unknown
flag value  : none
flag def'n  : none
legend cats : 0
lineage     : This file was created by the RECLASS module with the command line:
lineage     : I*H:\orange_river\2009\p172-r80\20091210\123457_kmeans16.rst*H:\orange_river\2009\p172-r80\20091210\class11.rst*3*H:\orange_river\2009\p172-r80\20091210\idrtemp.rcl*1
lineage     : File H:\orange_river\2009\p172-r80\20091210\idrtemp.rcl contains the following:
lineage     : 0 0 11
lineage     : 0 12 99
lineage     : -9999
