file format : IDRISI Raster A.1
file title  :
data type   : byte
file type   : binary
columns     : 8301
rows        : 7021
ref. system : utm-35n
ref. units  : m
unit dist.  : 1.0000000
min. X      : 151185.0000000
max. X      : 400215.0000000
min. Y      : -3300615.0000000
max. Y      : -3089985.0000000
pos'n error : unknown
resolution  : unknown
min. value  : 0
max. value  : 8
display min : 0
display max : 8
value units : unspecified
value error : unknown
flag value  : none
flag def'n  : none
legend cats : 0
lineage     : This file was created by the RECLASS module with the command line:
lineage     : I*H:\orange_river\2009\p172-r80\20091108\123457_kmeans16.rst*H:\orange_river\2009\p172-r80\20091108\class8_table.rst*3*H:\orange_river\2009\p172-r80\20091108\idrtemp.rcl*1
lineage     : File H:\orange_river\2009\p172-r80\20091108\idrtemp.rcl contains the following:
lineage     : 0 0 8
lineage     : 0 9 99
lineage     : -9999
