file format : IDRISI Raster A.1
file title  :
data type   : byte
file type   : binary
columns     : 8321
rows        : 7001
ref. system : utm-35n
ref. units  : m
unit dist.  : 1.0000000
min. X      : 185385.0000000
max. X      : 435015.0000000
min. Y      : -3141015.0000000
max. Y      : -2930985.0000000
pos'n error : unknown
resolution  : unknown
min. value  : 0
max. value  : 1
display min : 0
display max : 1
value units : unspecified
value error : unknown
flag value  : none
flag def'n  : none
legend cats : 0
lineage     : This file was created by the RECLASS module with the command line:
lineage     : I*H:\orange_river\2009\p172-r79\20090804\123457_clus_f.rst*H:\orange_river\2009\p172-r79\20090804\clusf_class27_41_51_56.rst*3*H:\orange_river\2009\p172-r79\20090804\idrtemp.rcl*1
lineage     : File H:\orange_river\2009\p172-r79\20090804\idrtemp.rcl contains the following:
lineage     : 0 0 27
lineage     : 1 27 28
lineage     : 0 28 41
lineage     : 1 41 42
lineage     : 0 42 51
lineage     : 1 51 52
lineage     : 0 52 56
lineage     : 1 56 57
lineage     : 0 57 99
lineage     : -9999
