file format : IDRISI Raster A.1
file title  :
data type   : byte
file type   : binary
columns     : 8301
rows        : 6981
ref. system : utm-35n
ref. units  : m
unit dist.  : 1.0000000
min. X      : 180585.0000000
max. X      : 429615.0000000
min. Y      : -3140415.0000000
max. Y      : -2930985.0000000
pos'n error : unknown
resolution  : unknown
min. value  : 0
max. value  : 1
display min : 0
display max : 1
value units : unspecified
value error : unknown
flag value  : none
flag def'n  : none
legend cats : 0
lineage     : This file was created by the RECLASS module with the command line:
lineage     : I*H:\orange_river\2009\p172-r79\20090601\123457_cluster_f.rst*H:\orange_river\2009\p172-r79\20090601\clusf_class62_68_81.rst*3*H:\orange_river\2009\p172-r79\20090601\idrtemp.rcl*1
lineage     : File H:\orange_river\2009\p172-r79\20090601\idrtemp.rcl contains the following:
lineage     : 0 0 62
lineage     : 1 62 63
lineage     : 0 63 68
lineage     : 1 68 69
lineage     : 0 69 81
lineage     : 1 81 82
lineage     : 0 82 99
lineage     : -9999
