file format : IDRISI Raster A.1
file title  :
data type   : byte
file type   : binary
columns     : 8301
rows        : 7001
ref. system : utm-35n
ref. units  : m
unit dist.  : 1.0000000
min. X      : 181785.0000000
max. X      : 430815.0000000
min. Y      : -3141015.0000000
max. Y      : -2930985.0000000
pos'n error : unknown
resolution  : unknown
min. value  : 0
max. value  : 1
display min : 0
display max : 1
value units : unspecified
value error : unknown
flag value  : none
flag def'n  : none
legend cats : 0
lineage     : This file was created by the RECLASS module with the command line:
lineage     : I*H:\orange_river\2009\p172-r79\20090414\123457_cluster_f.rst*H:\orange_river\2009\p172-r79\20090414\clusf_class15_16_24_30.rst*3*H:\orange_river\2009\p172-r79\20090414\idrtemp.rcl*1
lineage     : File H:\orange_river\2009\p172-r79\20090414\idrtemp.rcl contains the following:
lineage     : 0 0 15
lineage     : 1 15 17
lineage     : 0 17 24
lineage     : 1 24 25
lineage     : 0 25 30
lineage     : 1 30 31
lineage     : 0 31 99
lineage     : -9999
