file format : IDRISI Raster A.1
file title  :
data type   : byte
file type   : binary
columns     : 8311
rows        : 6991
ref. system : utm-35n
ref. units  : m
unit dist.  : 1.0000000
min. X      : 213885.0000000
max. X      : 463215.0000000
min. Y      : -2980515.0000000
max. Y      : -2770785.0000000
pos'n error : unknown
resolution  : unknown
min. value  : 0
max. value  : 1
display min : 0
display max : 1
value units : unspecified
value error : unknown
flag value  : none
flag def'n  : none
legend cats : 0
lineage     : This file was created by the RECLASS module with the command line:
lineage     : I*H:\orange_river\2009\p172-r78\20100417\123457_cluster_f.rst*H:\orange_river\2009\p172-r78\20100417\clusf_class13-34-44.rst*3*H:\orange_river\2009\p172-r78\20100417\idrtemp.rcl*1
lineage     : File H:\orange_river\2009\p172-r78\20100417\idrtemp.rcl contains the following:
lineage     : 0 0 13
lineage     : 1 13 14
lineage     : 0 14 34
lineage     : 1 34 35
lineage     : 0 35 44
lineage     : 1 44 45
lineage     : 0 45 99
lineage     : -9999
