file format : IDRISI Raster A.1
file title  :
data type   : byte
file type   : binary
columns     : 8321
rows        : 7001
ref. system : utm-35n
ref. units  : m
unit dist.  : 1.0000000
min. X      : 216585.0000000
max. X      : 466215.0000000
min. Y      : -2980815.0000000
max. Y      : -2770785.0000000
pos'n error : unknown
resolution  : unknown
min. value  : 0
max. value  : 1
display min : 0
display max : 1
value units : unspecified
value error : unknown
flag value  : none
flag def'n  : none
legend cats : 0
lineage     : This file was created by the RECLASS module with the command line:
lineage     : I*H:\orange_river\2009\p172-r78\20091108\123457_clustef.rst*H:\orange_river\2009\p172-r78\20091108\clus_class8-23-73.rst*3*H:\orange_river\2009\p172-r78\20091108\idrtemp.rcl*1
lineage     : File H:\orange_river\2009\p172-r78\20091108\idrtemp.rcl contains the following:
lineage     : 0 0 8
lineage     : 1 8 9
lineage     : 0 9 23
lineage     : 1 23 24
lineage     : 0 24 73
lineage     : 1 73 74
lineage     : 0 74 99
lineage     : -9999
