file format : IDRISI Raster A.1
file title  :
data type   : byte
file type   : binary
columns     : 8301
rows        : 7041
ref. system : utm-35n
ref. units  : m
unit dist.  : 1.0000000
min. X      : 218385.0000000
max. X      : 467415.0000000
min. Y      : -2982015.0000000
max. Y      : -2770785.0000000
pos'n error : unknown
resolution  : unknown
min. value  : 0
max. value  : 4
display min : 0
display max : 4
value units : unspecified
value error : unknown
flag value  : none
flag def'n  : none
legend cats : 0
lineage     : This file was created by the RECLASS module with the command line:
lineage     : I*H:\orange_river\2009\p172-r78\20090921\123457kmeans16.rst*H:\orange_river\2009\p172-r78\20090921\km_class4.rst*3*H:\orange_river\2009\p172-r78\20090921\idrtemp.rcl*1
lineage     : File H:\orange_river\2009\p172-r78\20090921\idrtemp.rcl contains the following:
lineage     : 0 0 4
lineage     : 0 5 99
lineage     : -9999
