file format : IDRISI Raster A.1
file title  :
data type   : byte
file type   : binary
columns     : 8361
rows        : 7081
ref. system : utm-35n
ref. units  : m
unit dist.  : 1.0000000
min. X      : 232785.0000000
max. X      : 483615.0000000
min. Y      : -3618615.0000000
max. Y      : -3406185.0000000
pos'n error : unknown
resolution  : unknown
min. value  : 0
max. value  : 99
display min : 0
display max : 99
value units : unspecified
value error : unknown
flag value  : none
flag def'n  : none
legend cats : 0
lineage     : This file was created by the RECLASS module with the command line:
lineage     : I*H:\orange_river\2009\p171-r82\20091203\123457_cluster.rst*H:\orange_river\2009\p171-r82\20091203\clus_class26-27-33-47.rst*3*H:\orange_river\2009\p171-r82\20091203\idrtemp.rcl*1
lineage     : File H:\orange_river\2009\p171-r82\20091203\idrtemp.rcl contains the following:
lineage     : 0 0 26
lineage     : 1 26 28
lineage     : 0 28 33
lineage     : 1 33 34
lineage     : 0 34 47
lineage     : 1 47 48
lineage     : 0 48 99
lineage     : -9999
