file format : IDRISI Raster A.1
file title  :
data type   : byte
file type   : binary
columns     : 8361
rows        : 7061
ref. system : utm-35n
ref. units  : m
unit dist.  : 1.0000000
min. X      : 268785.0000000
max. X      : 519615.0000000
min. Y      : -3459615.0000000
max. Y      : -3247785.0000000
pos'n error : unknown
resolution  : unknown
min. value  : 0
max. value  : 1
display min : 0
display max : 1
value units : unspecified
value error : unknown
flag value  : none
flag def'n  : none
legend cats : 0
lineage     : This file was created by the RECLASS module with the command line:
lineage     : I*H:\orange_river\2009\p171-r81\20090813\123457_clusterb.rst*H:\orange_river\2009\p171-r81\20090813\cluster_class24.rst*3*H:\orange_river\2009\p171-r81\20090813\idrtemp.rcl*1
lineage     : File H:\orange_river\2009\p171-r81\20090813\idrtemp.rcl contains the following:
lineage     : 0 0 24
lineage     : 1 24 25
lineage     : 0 25 200
lineage     : -9999
