file format : IDRISI Raster A.1
file title  :
data type   : byte
file type   : binary
columns     : 8351
rows        : 7051
ref. system : utm-35n
ref. units  : m
unit dist.  : 1.0000000
min. X      : 295485.0000000
max. X      : 546015.0000000
min. Y      : -3299715.0000000
max. Y      : -3088185.0000000
pos'n error : unknown
resolution  : unknown
min. value  : 0
max. value  : 1
display min : 0
display max : 1
value units : unspecified
value error : unknown
flag value  : none
flag def'n  : none
legend cats : 0
lineage     : This file was created by the RECLASS module with the command line:
lineage     : I*H:\orange_river\2009\p171-r80\20100309\123457_kmeans.rst*H:\orange_river\2009\p171-r80\20100309\km_class9.rst*3*H:\orange_river\2009\p171-r80\20100309\idrtemp.rcl*1
lineage     : File H:\orange_river\2009\p171-r80\20100309\idrtemp.rcl contains the following:
lineage     : 0 0 9
lineage     : 1 9 10
lineage     : 0 10 200
lineage     : -9999
