file format : IDRISI Raster A.1
file title  :
data type   : byte
file type   : binary
columns     : 8381
rows        : 7101
ref. system : utm-35n
ref. units  : m
unit dist.  : 1.0000000
min. X      : 336585.0000000
max. X      : 588015.0000000
min. Y      : -3141015.0000000
max. Y      : -2927985.0000000
pos'n error : unknown
resolution  : unknown
min. value  : 0
max. value  : 1
display min : 0
display max : 1
value units : unspecified
value error : unknown
flag value  : none
flag def'n  : none
legend cats : 0
lineage     : This file was created by the RECLASS module with the command line:
lineage     : I*H:\orange_river\2009\p171-r79\20091219\123457_cluster_f.rst*H:\orange_river\2009\p171-r79\20091219\clus_class16-25-65-73.rst*3*H:\orange_river\2009\p171-r79\20091219\idrtemp.rcl*1
lineage     : File H:\orange_river\2009\p171-r79\20091219\idrtemp.rcl contains the following:
lineage     : 0 0 16
lineage     : 1 16 17
lineage     : 0 17 25
lineage     : 1 25 26
lineage     : 0 26 65
lineage     : 1 65 66
lineage     : 0 66 73
lineage     : 1 73 74
lineage     : 0 74 99
lineage     : -9999
