file format : IDRISI Raster A.1
file title  :
data type   : byte
file type   : binary
columns     : 8381
rows        : 7101
ref. system : utm-35n
ref. units  : m
unit dist.  : 1.0000000
min. X      : 371985.0000000
max. X      : 623415.0000000
min. Y      : -2981415.0000000
max. Y      : -2768385.0000000
pos'n error : unknown
resolution  : unknown
min. value  : 0
max. value  : 1
display min : 0
display max : 1
value units : unspecified
value error : unknown
flag value  : none
flag def'n  : none
legend cats : 0
lineage     : This file was created by the RECLASS module with the command line:
lineage     : I*H:\orange_river\2009\p171-r78\20091219\123457_cluster-f.rst*H:\orange_river\2009\p171-r78\20091219\clusf_14-23-26-43-52-76.rst*3*H:\orange_river\2009\p171-r78\20091219\idrtemp.rcl*1
lineage     : File H:\orange_river\2009\p171-r78\20091219\idrtemp.rcl contains the following:
lineage     : 0 0 14
lineage     : 1 14 15
lineage     : 0 15 23
lineage     : 1 23 24
lineage     : 0 24 26
lineage     : 1 26 27
lineage     : 0 27 43
lineage     : 1 43 44
lineage     : 0 44 52
lineage     : 1 52 53
lineage     : 0 53 76
lineage     : 1 76 77
lineage     : 0 77 99
lineage     : -9999
