file format : IDRISI Raster A.1
file title  :
data type   : byte
file type   : binary
columns     : 8381
rows        : 7061
ref. system : utm-35n
ref. units  : m
unit dist.  : 1.0000000
min. X      : 373785.0000000
max. X      : 625215.0000000
min. Y      : -2980815.0000000
max. Y      : -2768985.0000000
pos'n error : unknown
resolution  : unknown
min. value  : 0
max. value  : 2
display min : 0
display max : 2
value units : unspecified
value error : unknown
flag value  : none
flag def'n  : none
legend cats : 0
lineage     : This file was created by the RECLASS module with the command line:
lineage     : I*H:\orange_river\2009\p171-r78\20090813\123457_kmeans16.rst*H:\orange_river\2009\p171-r78\20090813\km_class2.rst*3*H:\orange_river\2009\p171-r78\20090813\idrtemp.rcl*1
lineage     : File H:\orange_river\2009\p171-r78\20090813\idrtemp.rcl contains the following:
lineage     : 0 0 2
lineage     : 0 3 99
lineage     : -9999
