file format : IDRISI Raster A.1
file title  :
data type   : byte
file type   : binary
columns     : 8381
rows        : 7061
ref. system : utm-35n
ref. units  : m
unit dist.  : 1.0000000
min. X      : 373785.0000000
max. X      : 625215.0000000
min. Y      : -2980815.0000000
max. Y      : -2768985.0000000
pos'n error : unknown
resolution  : unknown
min. value  : 0
max. value  : 99
display min : 0
display max : 99
value units : unspecified
value error : unknown
flag value  : none
flag def'n  : none
legend cats : 0
lineage     : This file was created by the RECLASS module with the command line:
lineage     : I*H:\orange_river\2009\p171-r78\20090813\123457_cluster-f.rst*H:\orange_river\2009\p171-r78\20090813\clus_class46-56-68-85.rst*3*H:\orange_river\2009\p171-r78\20090813\idrtemp.rcl*1
lineage     : File H:\orange_river\2009\p171-r78\20090813\idrtemp.rcl contains the following:
lineage     : 0 0 46
lineage     : 1 46 47
lineage     : 0 47 56
lineage     : 1 56 57
lineage     : 0 57 68
lineage     : 1 68 69
lineage     : 0 69 85
lineage     : 1 85 86
lineage     : 0 86 99
lineage     : -9999
