file format : IDRISI Raster A.1
file title  :
data type   : byte
file type   : binary
columns     : 8421
rows        : 7161
ref. system : utm-35n
ref. units  : m
unit dist.  : 1.0000000
min. X      : 376785.0000000
max. X      : 629415.0000000
min. Y      : -3619215.0000000
max. Y      : -3404385.0000000
pos'n error : unknown
resolution  : unknown
min. value  : 0
max. value  : 8
display min : 0
display max : 8
value units : unspecified
value error : unknown
flag value  : none
flag def'n  : none
legend cats : 0
lineage     : This file was created by the OVERLAY module with the command line:
lineage     : 1*H:\orange_river\2009\p170-r82\20091228\km_class3.rst*H:\orange_river\2009\p170-r82\20091228\km_class8.rst*H:\orange_river\2009\p170-r82\20091228\km_class3_8.rst
