file format : IDRISI Raster A.1
file title  :
data type   : byte
file type   : binary
columns     : 8421
rows        : 7141
ref. system : utm-35n
ref. units  : m
unit dist.  : 1.0000000
min. X      : 376785.0000000
max. X      : 629415.0000000
min. Y      : -3618615.0000000
max. Y      : -3404385.0000000
pos'n error : unknown
resolution  : unknown
min. value  : 0
max. value  : 1
display min : 0
display max : 1
value units : unspecified
value error : unknown
flag value  : none
flag def'n  : none
legend cats : 0
lineage     : This file was created by the RECLASS module with the command line:
lineage     : I*H:\orange_river\2009\p170-r82\20091126\123457_cluster.rst*H:\orange_river\2009\p170-r82\20091126\clus_class13-26-29-58.rst*3*H:\orange_river\2009\p170-r82\20091126\idrtemp.rcl*1
lineage     : File H:\orange_river\2009\p170-r82\20091126\idrtemp.rcl contains the following:
lineage     : 0 0 13
lineage     : 1 13 14
lineage     : 0 14 26
lineage     : 1 26 27
lineage     : 0 27 29
lineage     : 1 29 30
lineage     : 0 30 58
lineage     : 1 58 59
lineage     : 0 59 99
lineage     : -9999
