file format : IDRISI Raster A.1
file title  :
data type   : byte
file type   : binary
columns     : 8421
rows        : 7121
ref. system : utm-35n
ref. units  : m
unit dist.  : 1.0000000
min. X      : 379185.0000000
max. X      : 631815.0000000
min. Y      : -3618615.0000000
max. Y      : -3404985.0000000
pos'n error : unknown
resolution  : unknown
min. value  : 0
max. value  : 1
display min : 0
display max : 1
value units : unspecified
value error : unknown
flag value  : none
flag def'n  : none
legend cats : 0
lineage     : This file was created by the RECLASS module with the command line:
lineage     : I*H:\orange_river\2009\p170-r82\20090806\123457_cluster.rst*H:\orange_river\2009\p170-r82\20090806\clus_class29.rst*3*H:\orange_river\2009\p170-r82\20090806\idrtemp.rcl*1
lineage     : File H:\orange_river\2009\p170-r82\20090806\idrtemp.rcl contains the following:
lineage     : 0 0 29
lineage     : 1 29 30
lineage     : 0 30 99
lineage     : -9999
