file format : IDRISI Raster A.1
file title  :
data type   : byte
file type   : binary
columns     : 8441
rows        : 7141
ref. system : utm-35n
ref. units  : m
unit dist.  : 1.0000000
min. X      : 413385.0000000
max. X      : 666615.0000000
min. Y      : -3459615.0000000
max. Y      : -3245385.0000000
pos'n error : unknown
resolution  : unknown
min. value  : 0
max. value  : 5
display min : 0
display max : 5
value units : unspecified
value error : unknown
flag value  : none
flag def'n  : none
legend cats : 0
lineage     : This file was created by the RECLASS module with the command line:
lineage     : I*H:\orange_river\2009\p170-r81\20091126\123457_kmeans16.rst*H:\orange_river\2009\p170-r81\20091126\km16_class5.rst*3*H:\orange_river\2009\p170-r81\20091126\idrtemp.rcl*1
lineage     : File H:\orange_river\2009\p170-r81\20091126\idrtemp.rcl contains the following:
lineage     : 0 0 5
lineage     : 0 6 99
lineage     : -9999
