file format : IDRISI Raster A.1
file title  :
data type   : byte
file type   : binary
columns     : 8441
rows        : 7161
ref. system : utm-35n
ref. units  : m
unit dist.  : 1.0000000
min. X      : 451185.0000000
max. X      : 704415.0000000
min. Y      : -3301215.0000000
max. Y      : -3086385.0000000
pos'n error : unknown
resolution  : unknown
min. value  : 0
max. value  : 3
display min : 0
display max : 3
value units : unspecified
value error : unknown
flag value  : none
flag def'n  : none
legend cats : 0
lineage     : This file was created by the RECLASS module with the command line:
lineage     : I*H:\orange_river\2009\p170-r80\20091126\123457_cluster.rst*H:\orange_river\2009\p170-r80\20091126\clusterclass3.rst*3*H:\orange_river\2009\p170-r80\20091126\idrtemp.rcl*1
lineage     : File H:\orange_river\2009\p170-r80\20091126\idrtemp.rcl contains the following:
lineage     : 0 0 3
lineage     : 0 4 99
lineage     : -9999
