file format : IDRISI Raster A.1
file title  :
data type   : byte
file type   : binary
columns     : 8421
rows        : 7161
ref. system : utm-35n
ref. units  : m
unit dist.  : 1.0000000
min. X      : 453585.0000000
max. X      : 706215.0000000
min. Y      : -3301815.0000000
max. Y      : -3086985.0000000
pos'n error : unknown
resolution  : unknown
min. value  : 0
max. value  : 1
display min : 0
display max : 1
value units : unspecified
value error : unknown
flag value  : none
flag def'n  : none
legend cats : 0
lineage     : This file was created by the RECLASS module with the command line:
lineage     : I*H:\orange_river\2009\p170-r80\20090806\123457clusters.rst*H:\orange_river\2009\p170-r80\20090806\clus_class26.rst*3*H:\orange_river\2009\p170-r80\20090806\idrtemp.rcl*1
lineage     : File H:\orange_river\2009\p170-r80\20090806\idrtemp.rcl contains the following:
lineage     : 0 0 26
lineage     : 1 26 27
lineage     : 0 27 200
lineage     : -9999
