file format : IDRISI Raster A.1
file title  :
data type   : byte
file type   : binary
columns     : 8441
rows        : 7161
ref. system : utm-35n
ref. units  : m
unit dist.  : 1.0000000
min. X      : 488385.0000000
max. X      : 741615.0000000
min. Y      : -3142215.0000000
max. Y      : -2927385.0000000
pos'n error : unknown
resolution  : unknown
min. value  : 0
max. value  : 1
display min : 0
display max : 1
value units : unspecified
value error : unknown
flag value  : none
flag def'n  : none
legend cats : 0
lineage     : This file was created by the RECLASS module with the command line:
lineage     : I*H:\orange_river\2009\p170-r79\20091126\123457_cluster.rst*H:\orange_river\2009\p170-r79\20091126\clus_class16-21-35.rst*3*H:\orange_river\2009\p170-r79\20091126\idrtemp.rcl*1
lineage     : File H:\orange_river\2009\p170-r79\20091126\idrtemp.rcl contains the following:
lineage     : 0 0 16
lineage     : 1 16 17
lineage     : 0 17 21
lineage     : 1 21 22
lineage     : 0 22 35
lineage     : 1 35 36
lineage     : 0 36 99
lineage     : -9999
