file format : IDRISI Raster A.1
file title  :
data type   : byte
file type   : binary
columns     : 8421
rows        : 7181
ref. system : utm-35n
ref. units  : m
unit dist.  : 1.0000000
min. X      : 489585.0000000
max. X      : 742215.0000000
min. Y      : -3142815.0000000
max. Y      : -2927385.0000000
pos'n error : unknown
resolution  : unknown
min. value  : 0
max. value  : 2
display min : 0
display max : 2
value units : unspecified
value error : unknown
flag value  : none
flag def'n  : none
legend cats : 0
lineage     : This file was created by the RECLASS module with the command line:
lineage     : I*H:\orange_river\2009\p170-r79\20090907\123457kmeans16.rst*H:\orange_river\2009\p170-r79\20090907\class2.rst*3*H:\orange_river\2009\p170-r79\20090907\idrtemp.rcl*1
lineage     : File H:\orange_river\2009\p170-r79\20090907\idrtemp.rcl contains the following:
lineage     : 0 0 2
lineage     : 0 3 99
lineage     : -9999
