file format : IDRISI Raster A.1
file title  :
data type   : byte
file type   : binary
columns     : 8491
rows        : 7221
ref. system : utm-35n
ref. units  : m
unit dist.  : 1.0000000
min. X      : 597285.0000000
max. X      : 852015.0000000
min. Y      : -3304215.0000000
max. Y      : -3087585.0000000
pos'n error : unknown
resolution  : unknown
min. value  : 0
max. value  : 1
display min : 0
display max : 1
value units : unspecified
value error : unknown
flag value  : none
flag def'n  : none
legend cats : 0
lineage     : This file was created by the RECLASS module with the command line:
lineage     : I*H:\orange_river\2009\p169-r80\20100412\123457_kmeans16.rst*H:\orange_river\2009\p169-r80\20100412\km_class4.rst*3*H:\orange_river\2009\p169-r80\20100412\idrtemp.rcl*1
lineage     : File H:\orange_river\2009\p169-r80\20100412\idrtemp.rcl contains the following:
lineage     : 0 0 4
lineage     : 1 4 5
lineage     : 0 5 200
lineage     : -9999
