file format : IDRISI Raster A.1
file title  :
data type   : byte
file type   : binary
columns     : 8501
rows        : 7221
ref. system : utm-35n
ref. units  : m
unit dist.  : 1.0000000
min. X      : 638385.0000000
max. X      : 893415.0000000
min. Y      : -3145215.0000000
max. Y      : -2928585.0000000
pos'n error : unknown
resolution  : unknown
min. value  : 0
max. value  : 1
display min : 0
display max : 1
value units : unspecified
value error : unknown
flag value  : none
flag def'n  : none
legend cats : 0
lineage     : This file was created by the RECLASS module with the command line:
lineage     : I*H:\orange_river\2009\p169-r79\20091103\123457_cluster.rst*H:\orange_river\2009\p169-r79\20091103\clus_class36-61.rst*3*H:\orange_river\2009\p169-r79\20091103\idrtemp.rcl*1
lineage     : File H:\orange_river\2009\p169-r79\20091103\idrtemp.rcl contains the following:
lineage     : 0 0 36
lineage     : 1 36 37
lineage     : 0 37 61
lineage     : 1 61 62
lineage     : 0 62 99
lineage     : -9999
