file format : IDRISI Raster A.1
file title  :
data type   : byte
file type   : binary
columns     : 8481
rows        : 7241
ref. system : utm-35n
ref. units  : m
unit dist.  : 1.0000000
min. X      : 640185.0000000
max. X      : 894615.0000000
min. Y      : -3146415.0000000
max. Y      : -2929185.0000000
pos'n error : unknown
resolution  : unknown
min. value  : 0
max. value  : 12
display min : 0
display max : 12
value units : unspecified
value error : unknown
flag value  : none
flag def'n  : none
legend cats : 0
lineage     : This file was created by the RECLASS module with the command line:
lineage     : I*H:\orange_river\2009\p169-r79\20090714\kmeans16.rst*H:\orange_river\2009\p169-r79\20090714\km_class12.rst*3*H:\orange_river\2009\p169-r79\20090714\idrtemp.rcl*1
lineage     : File H:\orange_river\2009\p169-r79\20090714\idrtemp.rcl contains the following:
lineage     : 0 0 12
lineage     : 0 13 99
lineage     : -9999
