file format : IDRISI Raster A.1
file title  :
data type   : byte
file type   : binary
columns     : 8261
rows        : 6981
ref. system : utm-36n
ref. units  : m
unit dist.  : 1.0000000
min. X      : 82185.0000000
max. X      : 330015.0000000
min. Y      : -2983215.0000000
max. Y      : -2773785.0000000
pos'n error : unknown
resolution  : unknown
min. value  : 0
max. value  : 1
display min : 0
display max : 1
value units : unspecified
value error : unknown
flag value  : none
flag def'n  : none
legend cats : 0
lineage     : This file was created by the RECLASS module with the command line:
lineage     : I*H:\orange_river\2009\p169-r78\20090714\123457_cluster.rst*H:\orange_river\2009\p169-r78\20090714\clusf_class18-31-32.rst*3*H:\orange_river\2009\p169-r78\20090714\idrtemp.rcl*1
lineage     : File H:\orange_river\2009\p169-r78\20090714\idrtemp.rcl contains the following:
lineage     : 0 0 18
lineage     : 1 18 19
lineage     : 0 19 31
lineage     : 1 31 33
lineage     : 0 33 99
lineage     : -9999
