file format : IDRISI Raster A.1
file title  :
data type   : RGB24
file type   : binary
columns     : 8261
rows        : 6981
ref. system : utm-36n
ref. units  : m
unit dist.  : 1.0000000
min. X      : 82185.0000000
max. X      : 330015.0000000
min. Y      : -2983215.0000000
max. Y      : -2773785.0000000
pos'n error : unknown
resolution  : unknown
min. value  : 0 0 0
max. value  : 231 255 255
display min : 29 26 31
display max : 75 74 57
value units : m
value error : unknown
flag value  : none
flag def'n  : none
legend cats : 0
lineage     : This file was created by COMPOSITE with the command line:
lineage     : H:\orange_river\2009\p169-r78\20090714\169078_07820090714_B20.rst*H:\orange_river\2009\p169-r78\20090714\169078_07820090714_B30.rst*H:\orange_river\2009\p169-r78\20090714\169078_07820090714_B40.rst*H:\orange_river\2009\p169-r78\20090714\234_fcc.rst*1*1*2.5*3
