file format : IDRISI Raster A.1
file title  :
data type   : RGB24
file type   : binary
columns     : 8501
rows        : 7201
ref. system : utm-35n
ref. units  : m
unit dist.  : 1.0000000
min. X      : 674985.0000000
max. X      : 930015.0000000
min. Y      : -2986815.0000000
max. Y      : -2770785.0000000
pos'n error : unknown
resolution  : unknown
min. value  : 0 0 0
max. value  : 255 255 255
display min : 29 23 29
display max : 123 137 120
value units : m
value error : unknown
flag value  : none
flag def'n  : none
legend cats : 0
lineage     : This file was created by COMPOSITE with the command line:
lineage     : H:\orange_river\2009\p169-r78\20090511\169078_07820090511_B20.rst*H:\orange_river\2009\p169-r78\20090511\169078_07820090511_B30.rst*H:\orange_river\2009\p169-r78\20090511\169078_07820090511_B40.rst*H:\orange_river\2009\p169-r78\20090511\234_fcc.rst*1*1*2.5*3
